BEGIN:VCALENDAR
VERSION:2.0
PRODID:-//hacksw/handcal//NONSGML v1.0//EN
BEGIN:VEVENT
SUMMARY:Championnat Regional TAE National
UID:4f532649-41d4-4ab3-9366-e6e7797493dd
DTSTART:20260627T220000Z
DTEND:20260628T220000Z
LOCATION:Localisation   
CATEGORIES:Sportif
STATUS:
URL;VALUE=URI:https://www.loostiralarc.fr/evenements/2026/06/28/championnat-regional-tae-national-2438325
END:VEVENT
END:VCALENDAR
