BEGIN:VCALENDAR
VERSION:2.0
PRODID:-//hacksw/handcal//NONSGML v1.0//EN
BEGIN:VEVENT
SUMMARY:DR Jeunes - Manche 3
UID:3585f2d2-3c2b-4ccf-9f1f-936c8739b11c
DTSTART:20260612T220000Z
DTEND:20260613T220000Z
LOCATION:Localisation   
CATEGORIES:Sportif
STATUS:
URL;VALUE=URI:https://www.loostiralarc.fr/evenements/2026/06/13/dr-jeunes-manche-3-2438291
END:VEVENT
END:VCALENDAR
